BEGIN:VCALENDAR
VERSION:2.0
PRODID:
BEGIN:VEVENT
UID:142661mb
DTSTAMP:20260420T064430Z
DTSTART:20260606T130000Z
DTEND:20260606T170000Z
SUMMARY: Avoiding Peer Review Deficiencies & Professional Liability in Public Accounting
DESCRIPTION: Peer review deficiencies and professional liability claims result from both audit and nonaudit services. This course will provide best practices for avoiding legal liability and quality control concerns for a wide variety of professional services offered by public accountants\n 
CLASS:PUBLIC
END:VEVENT
END:VCALENDAR
