BEGIN:VCALENDAR
VERSION:2.0
PRODID:
BEGIN:VEVENT
UID:142690mb
DTSTAMP:20260419T224810Z
DTSTART:20260522T160000Z
DTEND:20260522T193800Z
SUMMARY: Critical "Soft" Skills for CFOs & Controllers
DESCRIPTION: Accounting and finance managers and executives must demonstrate sound soft skills necessary for personal growth and organizational success. This course will provide insights into the most critical  personal skills critical for CFOs and Controllers: or those that want to be!\n  
CLASS:PUBLIC
END:VEVENT
END:VCALENDAR
