BEGIN:VCALENDAR
VERSION:2.0
PRODID:
BEGIN:VEVENT
UID:142691mb
DTSTAMP:20260421T222839Z
DTSTART:20260609T180000Z
DTEND:20260609T213800Z
SUMMARY: Critical "Soft" Skills for CFOs & Controllers
DESCRIPTION: Accounting and finance managers and executives must demonstrate sound soft skills necessary for personal growth and organizational success. This course will provide insights into the most critical  personal skills critical for CFOs and Controllers: or those that want to be!\n  
CLASS:PUBLIC
END:VEVENT
END:VCALENDAR
