BEGIN:VCALENDAR
VERSION:2.0
PRODID:
BEGIN:VEVENT
UID:142708mb
DTSTAMP:20260420T100548Z
DTSTART:20260613T150000Z
DTEND:20260613T230000Z
SUMMARY: How to Get a Better Return on Yellow Book & Single Audits: Avoiding the Most Misapplied Audit Concepts
DESCRIPTION: Yellow Book and Single Audit reporting entities have complex and unique financial statement audit\, compliance and reporting issues. Deficiencies in these types of audit engagements are common. This course will reduce the likelihood of noncompliance with relevant professional and regulatory auditing and reporting standards\n 
CLASS:PUBLIC
END:VEVENT
END:VCALENDAR
