BEGIN:VCALENDAR
VERSION:2.0
PRODID:
BEGIN:VEVENT
UID:142763mb
DTSTAMP:20260419T193748Z
DTSTART:20260520T140000Z
DTEND:20260520T160000Z
SUMMARY: Form 1120S: Preparation & Analysis
DESCRIPTION: This course is designed for financial professionals looking to understand Form 1120S. It covers the essential aspects of S corporation taxation\, including the preparation of Form 1120S\, determining taxable income and accurately reporting and allocating income\, deductions and credits. Participants will also learn how to calculate shareholder basis and understand the strategic advantages and limitations of an S corporation.

*Please Note:  If you need credit reported to the IRS for this IRS approved program\, please download the IRS CE request form on the Course Materials Tab and submit to kori.herrera@acpen.com\n  
CLASS:PUBLIC
END:VEVENT
END:VCALENDAR
