BEGIN:VCALENDAR
VERSION:2.0
PRODID:
BEGIN:VEVENT
UID:142843mb
DTSTAMP:20260419T131552Z
DTSTART:20260512T200000Z
DTEND:20260512T210000Z
SUMMARY: Written Information Security Plans
DESCRIPTION: This course provides a comprehensive overview of Written Information Security Plans (WISP)\, focusing on their purpose\, requirements and implementation. Starting with the 2024 PTIN renewal season\, all PTIN holders must certify they have a WISP and have trained employees\, staff and contractors as necessary. Participants will explore the history and legal foundation of WISP under the Gramm-Leach-Bliley Act and how compliance is enforced through Circular 230\, AICPA Statements of Standards and Federal Trade Commission (FTC) regulations. Attendees will gain practical guidance on writing an effective WISP and ensuring compliance with due diligence standards for data security\n Note: This course qualifies to count toward the WICPA membership Ethics CPE requirement\n 
CLASS:PUBLIC
END:VEVENT
END:VCALENDAR
