BEGIN:VCALENDAR
VERSION:2.0
PRODID:
BEGIN:VEVENT
UID:142860mb
DTSTAMP:20260419T193928Z
DTSTART:20260520T140000Z
DTEND:20260520T174900Z
SUMMARY: Ethics: A Line in the Sand\; Implications for Daily Business
DESCRIPTION: Ethical behavior continues to be a problem in society and even in the CPA ranks. "Ethics: A Line in the Sand" looks at the behavioral issues that influence how CPA's act. The course will address why individuals make ethical blunders\, the state of ethical conduct in business organizations\, the relationship between strong cultures\, policy and procedures and successful ethical work environments. In addition\, the course will highlight the one behavior to watch for as an indicator of potential ethical violations\n Note: This course qualifies to count toward the WICPA membership Ethics CPE requirement\n 
CLASS:PUBLIC
END:VEVENT
END:VCALENDAR
