BEGIN:VCALENDAR
VERSION:2.0
PRODID:
BEGIN:VEVENT
UID:142894mb
DTSTAMP:20260419T131736Z
DTSTART:20260512T170000Z
DTEND:20260512T204700Z
SUMMARY: New Mergers & Acquisitions: Tricks\, Traps\, & Terrors
DESCRIPTION: Welcome to a course that makes the process of M&A easy to understand and easy to implement within your organization or your clients' organization. The course will provide an intensive overview of the M&A process. Focus will be on practical techniques to guide you through the M&A jungle and avoid the traps that have befallen many organizations\n 
CLASS:PUBLIC
END:VEVENT
END:VCALENDAR
