BEGIN:VCALENDAR
VERSION:2.0
PRODID:
BEGIN:VEVENT
UID:142906mb
DTSTAMP:20260419T180627Z
DTSTART:20260518T160000Z
DTEND:20260518T193900Z
SUMMARY: The Successful Family Business
DESCRIPTION: Understanding the dynamics of family interaction is one of the most important skills in helping a family business succeed.

This course takes a candid look inside the family business and will help the participant navigate delicate issues while learning to provide counsel that will grow: or protect: the family business and non-family staff\n 
CLASS:PUBLIC
END:VEVENT
END:VCALENDAR
