BEGIN:VCALENDAR
VERSION:2.0
PRODID:
BEGIN:VEVENT
UID:142918mb
DTSTAMP:20260419T162837Z
DTSTART:20260515T140000Z
DTEND:20260515T145900Z
SUMMARY: An Exceptional Leader C.A.R.E.S.
DESCRIPTION: This session will teach leadership principles to transform a workplace into a healthy & supportive environment. By improving organizational culture\, mental health conditions will improve\, & burnout potential is minimized. An unhealthy workplace results in failure to attract and retain top talent. Leaders can be instruments of change. The C.A.R.E.S. approach offers leadership principles that will improve your workplace. Symptoms are hidden at work. Your employees are hurting and you can help. If you care for your people from the bottom of your heart\, you will be amazed at what it does to your bottom line\n 
CLASS:PUBLIC
END:VEVENT
END:VCALENDAR
