BEGIN:VCALENDAR
VERSION:2.0
PRODID:
BEGIN:VEVENT
UID:143138mb
DTSTAMP:20260421T045153Z
DTSTART:20260508T180000Z
DTEND:20260508T200000Z
SUMMARY: Common Sense CFO: Crisis Management\, Innovation & Other Expectations Put on CFOs
DESCRIPTION: The role of today's financial leader\, including CFO\, transcends traditional financial stewardship\; it demands agility\, innovation\, crisis management and strategic foresight. This seminar will discuss the new\, multifaceted skills and insights needed to excel in the dynamic role of modern finance. Through a blend of theory\, research and practical exercises\, participants will explore the diverse roles of a CFO as innovation champions\, technology evangelists\, crisis managers and change agents: leveraging practical principles to drive organizational success. Financial leaders can adapt or be left behind. Whether you are a seasoned CFO or aspiring to step into a leadership position\, this seminar will discuss the essential tools and insights to navigate the newer demands of financial managers with confidence and competence\n 
CLASS:PUBLIC
END:VEVENT
END:VCALENDAR
