BEGIN:VCALENDAR
VERSION:2.0
PRODID:
BEGIN:VEVENT
UID:143169mb
DTSTAMP:20260419T212552Z
DTSTART:20260521T180000Z
DTEND:20260521T190000Z
SUMMARY: Understand Yours & Other People's Styles: Meet Them in the Middle & Be More Effective in Generating Great Results!
DESCRIPTION: Understanding your own and the people style of others whom you are dealing with which can establish rapport more easily\, help you become more persuasive and avoid miscommunication with the possibility of rubbing someone the wrong way. In our session\, you will gain insights into your people style\, ways to improve communication connectivity and how to understand your team's functionality (or more likely dysfunctionality)\n 
CLASS:PUBLIC
END:VEVENT
END:VCALENDAR
