BEGIN:VCALENDAR
VERSION:2.0
PRODID:
BEGIN:VEVENT
UID:143249mb
DTSTAMP:20260420T100549Z
DTSTART:20260421T150000Z
DTEND:20260421T170000Z
SUMMARY: Leading Up: The Superpower Every Ascending Leader Needs
DESCRIPTION: Most leadership training focuses on leading downstream\, with the goal of eventually advancing to an executive role. Few people get to be "top dog" in their organization. So\, nearly every worker will spend their entire career leading up\, even while serving in a leadership role. Learn the skills and tactics needed to develop an effective working relationship with your boss and other superiors. Gain the credibility and support necessary to get things done and advance professionally\n 
CLASS:PUBLIC
END:VEVENT
END:VCALENDAR
