BEGIN:VCALENDAR
VERSION:2.0
PRODID:
BEGIN:VEVENT
UID:143268mb
DTSTAMP:20260419T193808Z
DTSTART:20260519T190000Z
DTEND:20260519T210000Z
SUMMARY: Develop Your Emotional Intelligence to Be More Successful in Life & Leadership
DESCRIPTION: The difference between star performers and average ones in leadership roles is attributable largely to emotional intelligence (EQ). It's surprising\, then\, that EQ is underrated as an essential ingredient for success in life and leadership. This presentation highlights the importance of EQ and provides participants with actionable tools to develop better relationships within and outside of the workplace\, build healthy teams and navigate constant change\n 
CLASS:PUBLIC
END:VEVENT
END:VCALENDAR
