BEGIN:VCALENDAR
VERSION:2.0
PRODID:
BEGIN:VEVENT
UID:143358mb
DTSTAMP:20260420T100633Z
DTSTART:20260613T180000Z
DTEND:20260613T220000Z
SUMMARY: Leading & Managing the Accounting Department
DESCRIPTION: Welcome to a management course that helps CFOs and Controllers lead the Accounting Department. It is essential that the Accounting Department have a Vision which is aligned with the Business goals. Controllers must also be comfortable with wearing multiple 'hats' in the business. The head of the Accounting Department must be skilled in a variety of leadership skills\, technical skills\, managerial skills and current management techniquest\n 
CLASS:PUBLIC
END:VEVENT
END:VCALENDAR
