BEGIN:VCALENDAR
VERSION:2.0
PRODID:
BEGIN:VEVENT
UID:143372mb
DTSTAMP:20260420T064429Z
DTSTART:20260608T130000Z
DTEND:20260608T140000Z
SUMMARY: Financial Acumen for Today's HR Leader
DESCRIPTION: Financial Acumen for the HR Professional is a part of the series "The HR Professional's Guide to Evolving Business Strategy\, Finance and Development." This course identifies how HR Professionals can increase their financial understanding to participate more effectively with management as well as understand the financial results and implications for the business\n 
CLASS:PUBLIC
END:VEVENT
END:VCALENDAR
