BEGIN:VCALENDAR
VERSION:2.0
PRODID:
BEGIN:VEVENT
UID:143395mb
DTSTAMP:20260420T021219Z
DTSTART:20260528T150000Z
DTEND:20260528T160000Z
SUMMARY: HR's Role in Business Evolution: Strategy\, Finance & Growth
DESCRIPTION: This course is tailored for business leaders and HR professionals who want to enhance their strategic management skills and create actionable plans for success. You'll learn the overall strategic management process\, how to develop both simplified and detailed business and strategic plans and the crucial role of corporate culture\, leadership and staff development in driving or hindering strategic outcomes. Additionally\, you'll explore how to leverage ChatGPT (Generative AI) as a powerful tool to improve your performance as a key business partner to the management team\, helping you make data-driven decisions and enhance organizational effectiveness\n 
CLASS:PUBLIC
END:VEVENT
END:VCALENDAR
