BEGIN:VCALENDAR
VERSION:2.0
PRODID:
BEGIN:VEVENT
UID:143436mb
DTSTAMP:20260420T070010Z
DTSTART:20260604T230000Z
DTEND:20260605T003800Z
SUMMARY: Fraud Unmasked: Understanding & Preventing White-Collar Crime With Dr. Richard G. Brody
DESCRIPTION: Fraud poses a significant risk to businesses\, organizations and individuals\, leading to financial losses\, reputational damage and legal consequences. This comprehensive course\, led by Dr. Richard G. Brody\, an esteemed expert in forensic accounting and fraud prevention\, explores the underlying mechanisms\, motivations and methods of fraudulent behavior. Through real-world case studies\, expert analysis and interactive discussions\, participants will gain critical insights into the psychology of fraud\, organizational vulnerabilities and ethical breakdowns that enable misconduct. The course equips attendees with the latest fraud detection techniques\, risk assessment strategies and internal control best practices to proactively identify and mitigate fraud risks while fostering a culture of integrity and accountability\n Note: This course qualifies to count toward the WICPA membership Ethics CPE requirement\n 
CLASS:PUBLIC
END:VEVENT
END:VCALENDAR
