BEGIN:VCALENDAR
VERSION:2.0
PRODID:
BEGIN:VEVENT
UID:144128mb
DTSTAMP:20260419T161749Z
DTSTART:20260515T150000Z
DTEND:20260515T170000Z
SUMMARY: CFO Series: Advanced Financial Analysis: Use the Right Tools
DESCRIPTION: Humans are hard-wired to fear uncertainty\, but we can learn from the ambiguity that is common today. The upside of uncertainty is that it is the gateway to new possibilities\, including new tools.
The analytical tools we currently use were designed for the physical world\, but today we live in a data-driven digital world\, especially for those in the service economy. What are the best tools to deal with unknowns and ambiguity in today's environment? We will show you how to use the right tools in the proper manner\n 
CLASS:PUBLIC
END:VEVENT
END:VCALENDAR
