BEGIN:VCALENDAR
VERSION:2.0
PRODID:
BEGIN:VEVENT
UID:144392ma
DTSTAMP:20260420T083100Z
DTSTART:20260430T230000Z
DTEND:20260501T013000Z
LOCATION: New Berlin Ale House (New Berlin\, 53151)
SUMMARY: Bowling Night
DESCRIPTION: Whether you come to have fun or to be competitive\, you're sure to enjoy making new connections and reconnecting with other accounting and business professionals at this year's Bowling Night!\n  \nYou can sign up to bowl by yourself or as a group of up to four! Consider forming a team with co-workers or other professional connections for a fun opportunity to build camaraderie in a more casual atmosphere. Registration is $45 per bowler ($160 per four-person team). \n  \nRegistration Includes:\n\n\n3 Games of Bowling \nShoe Rental \nFood &amp\; Beverages\nEvent Awards &amp\; Prizes*:\n\n\n$250+ in Team Awards &amp\; Prizes \n$100+ in Individual Prizes \nBowling Gift Card Package\nDon't have a full team? No problem! We can pair registrations of 1 - 3 bowlers with others to create a full team for increased networking!\n  \n*Attendee must be present when awards and prizes are announced to receive an award or prize.\n  
CLASS:PUBLIC
END:VEVENT
END:VCALENDAR
