BEGIN:VCALENDAR
VERSION:2.0
PRODID:
BEGIN:VEVENT
UID:144404ma
DTSTAMP:20260421T185138Z
DTSTART:20260612T223000Z
DTEND:20260613T033000Z
LOCATION: Brookfield Conference Center (Brookfield\, 53005)
SUMMARY: New CPA Banquet
DESCRIPTION: Celebrating the achievement of becoming a CPA\n\nOne of the hallmark events of the year for Wisconsin accounting professionals\, the New CPA Banquet is held to honor Wisconsin's newly licensed CPAs and celebrate their hard work\, dedication and accomplishment of achieving the most prominent designation of the accounting profession\n \nJoin us for a night of celebration to:\n  \n\nRecognize those who became a CPA in 2024 as they receive their official printed state of Wisconsin CPA certificate \nHear from keynote speaker\, \nNetwork with newly licensed CPAs and leaders in the accounting profession \nEnjoy dinner\, drinks and casino-themed entertainment \nAgenda\n\n5:30 p.m. Networking Reception\n  \n6:30 p.m. Dinner\n  \n7:30 p.m. Program\n  \n8:30 p.m. Networking &amp\; Entertainment\n  \nOvernight Accommodations\n\nA block of rooms has been reserved at the Hilton Garden Inn in Brookfield (next to the Brookfield Conference Center) for the night of Friday\, June 12\, with a room rate of $136 (plus tax). To reserve a room in the block\, please book online <a href="https://www.hilton.com/en/attend-my-event/newcpabanquetblockjune2026/">here</a> or by calling 262-330-0800 and mentioning you're attending the WICPA event. \n  
CLASS:PUBLIC
END:VEVENT
END:VCALENDAR
