BEGIN:VCALENDAR
VERSION:2.0
PRODID:
BEGIN:VEVENT
UID:144426imp
DTSTAMP:20260420T235813Z
DTSTART:20260721T180000Z
DTEND:20260721T210000Z
SUMMARY: Are You Ready for Your Peer Review?
DESCRIPTION: Be ready for your peer review!

The peer review process is an effective way to monitor practice quality\, ensuring that your firm meets high standards while protecting the public interest. 

Gain a better understanding of the overall peer review process and learn how to fully prepare for your triennial review.

This webcast will help you:
Understand and compare the system and engagement review processes
Address recently issued peer review guidance and quality control requirements
Learn how both guidance and requirements affect your firm

You'll also discover the most common areas of noncompliance with professional standards and how to avoid them well before your review is due. Participants will leave this session with the resources and tools to enhance their firm's peer review quality\n 
CLASS:PUBLIC
END:VEVENT
END:VCALENDAR
