BEGIN:VCALENDAR
VERSION:2.0
PRODID:
BEGIN:VEVENT
UID:144430imp
DTSTAMP:20260421T013857Z
DTSTART:20260729T170000Z
DTEND:20260729T180000Z
SUMMARY: SOC Mastery for CPA Firms: Your Roadmap to Starting a SOC Practice
DESCRIPTION: In the realm of modern business\, the trend of outsourcing functions or activities to third-party service providers is on the rise. While this strategy can enhance efficiency and cost-effectiveness\, it also introduces inherent risks that necessitate careful identification\, assessment\, and management. As a result\, those utilizing such outsourced services\, along with their auditors\, increasingly demand comprehensive insights into the effectiveness of controls within these service organizations. To fulfill this need\, the AICPA offers a range of SOC (System and Organization Control) for service organizations engagements\, providing assurance reports that offer vital information for evaluating and mitigating the risks tied to outsourcing\, thereby fostering trust and transparency.

This webcast serves as an introduction for CPA firms who are new to SOC for service organizations engagements or as a refresher for those already acquainted. It does not delve into the specifics of conducting a SOC examinations\; however\, it offers a general understanding of how to start up a SOC practice\n 
CLASS:PUBLIC
END:VEVENT
END:VCALENDAR
