BEGIN:VCALENDAR
VERSION:2.0
PRODID:
BEGIN:VEVENT
UID:144434imp
DTSTAMP:20260419T224734Z
DTSTART:20260522T180000Z
DTEND:20260522T193000Z
SUMMARY: AICPA & CIMA Faculty Hour Series
DESCRIPTION: Understand emerging trends in academiaAcademics will receive timely and critical information on emerging issues and the latest news affecting accounting education. Subject matter experts provide insights\, analysis\, and practical guidance on the key issues facing the profession and academia. Faculty Hour contributors will share their experiences\, tools\, and resources to ensure the success of the next generation of accountants. In addition\, AICPA &amp\; CIMA staff will provide the latest news concerning changes to regulations\, exams\, and licensure requirements that may affect faculty and their schools\n 
CLASS:PUBLIC
END:VEVENT
END:VCALENDAR
