BEGIN:VCALENDAR
VERSION:2.0
PRODID:
BEGIN:VEVENT
UID:144451imp
DTSTAMP:20260420T130039Z
DTSTART:20260618T190000Z
DTEND:20260618T210000Z
SUMMARY: Quality Management: Performing a Root Cause Analysis
DESCRIPTION: Root cause analysis is a powerful tool for understanding why quality issues arise\, and for preventing them from recurring. 

This webcast examines the principles and objectives of a root cause analysis and how it aligns with SQMS No. 1's focus on continual improvement. 

Learn practical approaches for:
Identifying underlying causes of findings and deficiencies
Evaluating contributing factors
Implementing meaningful corrective actions

We'll also explore how this process can help firms of all sizes to:
Enhance audit quality
Strengthen remediation activities
Foster a culture of proactive problem-solving\n  
CLASS:PUBLIC
END:VEVENT
END:VCALENDAR
