BEGIN:VCALENDAR
VERSION:2.0
PRODID:
BEGIN:VEVENT
UID:144456imp
DTSTAMP:20260419T230535Z
DTSTART:20260526T140000Z
DTEND:20260526T153000Z
SUMMARY: AICPA Hot Topics Series - Fraud Under the Microscope: Prevention & Detection Tactics
DESCRIPTION: In today's complex financial landscape\, preventing and detecting fraud requires vigilance\, strategy\, and the right tools. This session will equip you with practical techniques to identify red flags\, mitigate risks\, and build stronger safeguards to protect your organization's integrity\n \nNote: This course qualifies to count toward the WICPA membership Ethics CPE requirement.\n  
CLASS:PUBLIC
END:VEVENT
END:VCALENDAR
