BEGIN:VCALENDAR
VERSION:2.0
PRODID:
BEGIN:VEVENT
UID:144477imp
DTSTAMP:20260419T183535Z
DTSTART:20270331T150000Z
DTEND:20270331T183000Z
SUMMARY: Tax Practice Conduct Standards: Circular 230 & AICPA Statements 26-27
DESCRIPTION: Meet the ethics requirement while addressing significant changes in the statutory and regulatory standards that govern tax practitioners. We'll explore rules that govern professional conduct in tax practice\, including responsibilities to advise clients on tax positions and related penalty avoidance\n \nNote: This course qualifies to count toward the WICPA membership Ethics CPE requirement.\n  
CLASS:PUBLIC
END:VEVENT
END:VCALENDAR
