BEGIN:VCALENDAR
VERSION:2.0
PRODID:
BEGIN:VEVENT
UID:144484imp
DTSTAMP:20260419T183413Z
DTSTART:20270325T150000Z
DTEND:20270325T183000Z
SUMMARY: Ethics in the Real World 26-27
DESCRIPTION: An innovative and interactive session that taps the areas of neuroscience\, psychology and biology to understand how science\, emotion and ethical decision-making interact. Instead of critiquing how our minds are supposed to work\, this session delves into the fascinating world of how our minds work when we face complex problems where a "best choice" doesn't seem to exist. The talk will also explore why ethical codes have often failed and how to improve individual and organizational ethical reasoning\n Note: This course qualifies to count toward the WICPA membership Ethics CPE requirement\n 
CLASS:PUBLIC
END:VEVENT
END:VCALENDAR
