BEGIN:VCALENDAR
VERSION:2.0
PRODID:
BEGIN:VEVENT
UID:144488imp
DTSTAMP:20260419T164735Z
DTSTART:20270427T170000Z
DTEND:20270427T190000Z
SUMMARY: The Art of the Interview 26-27
DESCRIPTION: Uncovering financial fraud and irregularities requires more than analyzing numbers'it demands strategic questioning and keen behavioral insight. This course equips CPAs with essential interviewing techniques to detect deception\, gather critical information and strengthen forensic audits. With financial fraud on the rise\, mastering investigative interviewing is a crucial skill for CPAs committed to protecting organizations and ensuring financial integrity\n 
CLASS:PUBLIC
END:VEVENT
END:VCALENDAR
