BEGIN:VCALENDAR
VERSION:2.0
PRODID:
BEGIN:VEVENT
UID:144497imp
DTSTAMP:20260420T032442Z
DTSTART:20270125T160000Z
DTEND:20270125T193000Z
SUMMARY: Accounting & Tax Ethics: Standards\, Issues\, & Case Studies 26-27
DESCRIPTION: In recent history\, even the most prestigious CPA firms have had ethical lapses and oversights that have cost them both financially and\, at that moment\, clouded their brand. This course will review the AICPA code of ethics for both accounting and tax practitioners and encourage you to examine your firm's policies and choices relative to those standards and common sense through thought-provoking and sometimes humorous Q&amp\;A and case studies\n \nNote: This course qualifies to count toward the WICPA membership Ethics CPE requirement.\n  
CLASS:PUBLIC
END:VEVENT
END:VCALENDAR
