BEGIN:VCALENDAR
VERSION:2.0
PRODID:
BEGIN:VEVENT
UID:144511imp
DTSTAMP:20260419T183218Z
DTSTART:20270329T150000Z
DTEND:20270329T183000Z
SUMMARY: Ethical Intelligence: Global Case Studies & Standards 26-27
DESCRIPTION: Don't fall behind! This course will ensure that you know the current ethical requirements set by standards-setting organizations and legislative action. Real-world cases coupled with analysis by a leading ethics expert will help you better recognize situations that may pose ethical or regulatory risks. Discover the regulatory\, legal and ethical responsibilities you have and gain insight into a simple 4-step decision-making process that can strengthen your professional judgment\n \nNote: This course qualifies to count toward the WICPA membership Ethics CPE requirement.\n  
CLASS:PUBLIC
END:VEVENT
END:VCALENDAR
