BEGIN:VCALENDAR
VERSION:2.0
PRODID:
BEGIN:VEVENT
UID:144521imp
DTSTAMP:20260420T015313Z
DTSTART:20270211T160000Z
DTEND:20270211T193000Z
SUMMARY: Vows Made Visible: Ethics & the Call of the Profession 26-27
DESCRIPTION: Learn various codes of professional conduct and standards of ethical conduct\, recent cases involving professional responsibility for the accounting profession\, ethical frameworks and more.  \n  \nNote: This course qualifies to count toward the WICPA membership Ethics CPE requirement.\n  
CLASS:PUBLIC
END:VEVENT
END:VCALENDAR
