BEGIN:VCALENDAR
VERSION:2.0
PRODID:
BEGIN:VEVENT
UID:144536imp
DTSTAMP:20260420T045138Z
DTSTART:20270121T160000Z
DTEND:20270121T233000Z
SUMMARY: SSARS Codification: Preparation\, Compilation & Review 26-27
DESCRIPTION: This course covers SSARS requirements for preparing\, compiling and reviewing financial statements through SSARS 27. With SSARS 21\, the AICPA Accounting and Review Services Committee (ARSC) introduced the Preparation service to SSARS and rewrote the Compilation and Review Standards in a clarified format. SSARS 22 and 23 made minor modifications to SSARS 21. SSARS 24 and 25 made substantive modifications to the SSARS\, mainly when performing review engagements. SSARS 26 updates the SSARS with conforming changes made necessary by the new Quality Management standards. SSARS 27 modifies the applicability of AR-C 70 when engaged to prepare financial statements\n 
CLASS:PUBLIC
END:VEVENT
END:VCALENDAR
