BEGIN:VCALENDAR
VERSION:2.0
PRODID:
BEGIN:VEVENT
UID:144546imp
DTSTAMP:20260420T015221Z
DTSTART:20270204T160000Z
DTEND:20270204T233000Z
SUMMARY: U.S. GAAP Disclosures for Non-Public Entities 26-27
DESCRIPTION: Disclosure has never been more critical. This course covers the most commonly encountered U.S. GAAP disclosure requirements. The course is an overview of the FASB Accounting Standards Codification and its more significant disclosure requirements applicable to non-public entities. In addition to U.S. GAAP\, the course includes discussion of disclosure requirements for financial statements prepared using a special purpose framework\, e.g.\, tax basis\n 
CLASS:PUBLIC
END:VEVENT
END:VCALENDAR
