BEGIN:VCALENDAR
VERSION:2.0
PRODID:
BEGIN:VEVENT
UID:144553imp
DTSTAMP:20260420T112537Z
DTSTART:20261215T160000Z
DTEND:20261215T233000Z
SUMMARY: Comprehensive Update: FASB\, AICPA (SAS\, SQMS\, SSARS & Ethics) 26-27
DESCRIPTION: Join us for a comprehensive annual update of promulgations of the FASB and AICPA and will include the latest ASU\, SAS and Ethics interpretations\n 
CLASS:PUBLIC
END:VEVENT
END:VCALENDAR
