BEGIN:VCALENDAR
VERSION:2.0
PRODID:
BEGIN:VEVENT
UID:144554imp
DTSTAMP:20260420T050712Z
DTSTART:20270119T160000Z
DTEND:20270119T233000Z
SUMMARY: Comprehensive Update: FASB\, AICPA (SAS\, SQMS\, SSARS & Ethics) 26-27
DESCRIPTION: Join us for a comprehensive annual update of promulgations of the FASB and AICPA and will include the latest ASU\, SAS and Ethics interpretations\n 
CLASS:PUBLIC
END:VEVENT
END:VCALENDAR
