BEGIN:VCALENDAR
VERSION:2.0
PRODID:
BEGIN:VEVENT
UID:144555imp
DTSTAMP:20260419T210332Z
DTSTART:20260521T150000Z
DTEND:20260521T183000Z
SUMMARY: 26-27 FASB & AICPA Update (ASU\, SAS\, Ethics)
DESCRIPTION: This 4-hour program addresses the latest promulgations of FASB ASU impacting privately-held entities\, AICPA SAS and selected AICPA ethics interpretations.  \n  
CLASS:PUBLIC
END:VEVENT
END:VCALENDAR
