BEGIN:VCALENDAR
VERSION:2.0
PRODID:
BEGIN:VEVENT
UID:144557imp
DTSTAMP:20260420T154843Z
DTSTART:20261123T160000Z
DTEND:20261123T193000Z
SUMMARY: 26-27 FASB & AICPA Update (ASU\, SAS\, Ethics)
DESCRIPTION: This 4-hour program addresses the latest promulgations of FASB ASU impacting privately-held entities\, AICPA SAS and selected AICPA ethics interpretations.  \n  
CLASS:PUBLIC
END:VEVENT
END:VCALENDAR
