BEGIN:VCALENDAR
VERSION:2.0
PRODID:
BEGIN:VEVENT
UID:144568imp
DTSTAMP:20260420T064102Z
DTSTART:20270107T160000Z
DTEND:20270107T233000Z
SUMMARY: Comprehensive FASB & AICPA Update for Tax Professionals 26-27
DESCRIPTION: This 6-hour program covers recent promulgations of the FASB and AICPA with broad applicability. In addition\, the course includes the 2-hour Tax Basis Financial Statements and 2-hour SSARS Highlight Reel\, programs available as stand-alone courses\n 
CLASS:PUBLIC
END:VEVENT
END:VCALENDAR
