BEGIN:VCALENDAR
VERSION:2.0
PRODID:
BEGIN:VEVENT
UID:144572imp
DTSTAMP:20260420T171608Z
DTSTART:20261117T160000Z
DTEND:20261117T180000Z
SUMMARY: Preparation\, Compilation & Review Issues - Highlights 26-27
DESCRIPTION: This course is a refresher of the more significant SSARS requirements for preparation\, compilation and review engagements. Includes discussion of SSARS 26 and SSARS 27\n 
CLASS:PUBLIC
END:VEVENT
END:VCALENDAR
