BEGIN:VCALENDAR
VERSION:2.0
PRODID:
BEGIN:VEVENT
UID:144574imp
DTSTAMP:20260420T020344Z
DTSTART:20260528T150000Z
DTEND:20260528T170000Z
SUMMARY: FASB & AICPA Update for Tax Professionals (Highlights) 26-27
DESCRIPTION: This 2-hour program covers recent promulgations of the FASB and AICPA with broad applicability.  \n  
CLASS:PUBLIC
END:VEVENT
END:VCALENDAR
