BEGIN:VCALENDAR
VERSION:2.0
PRODID:
BEGIN:VEVENT
UID:144577imp
DTSTAMP:20260420T051314Z
DTSTART:20270115T160000Z
DTEND:20270115T180000Z
SUMMARY: FASB & AICPA Update for Tax Professionals (Highlights) 26-27
DESCRIPTION: This 2-hour program covers recent promulgations of the FASB and AICPA with broad applicability.  \n  
CLASS:PUBLIC
END:VEVENT
END:VCALENDAR
