BEGIN:VCALENDAR
VERSION:2.0
PRODID:
BEGIN:VEVENT
UID:144581imp
DTSTAMP:20260420T050743Z
DTSTART:20270115T180000Z
DTEND:20270115T200000Z
SUMMARY: Tax Basis Financial Statements 26-27
DESCRIPTION: As the complexity of GAAP drives preparers of financial statements to seek GAAP alternatives\, many are finding tax-basis financial statements can meet their needs. This 2-hour program covers many of the matters to be considered when choosing the tax-basis for financial statement presentation.  \n  
CLASS:PUBLIC
END:VEVENT
END:VCALENDAR
