BEGIN:VCALENDAR
VERSION:2.0
PRODID:
BEGIN:VEVENT
UID:144601imp
DTSTAMP:20260420T234905Z
DTSTART:20260722T150000Z
DTEND:20260722T223000Z
SUMMARY: IRAs --Traditional\, Roth\, SEP & SIMPLE 26-27
DESCRIPTION: This comprehensive training is designed to get you quickly up to speed with the different types of Individual Retirement Accounts (IRAs). The cornerstone of the course is an in-depth coverage of the contribution and distribution rules to the Traditional\, Roth\, Simplified Employee Pension (SEP) and Savings Incentive Match Plan for Employees (SIMPLE) IRAs. The course will also discuss the basics of the Health Savings Account (HSA) as well as any newly enacted tax legislation related to IRAs\n 
CLASS:PUBLIC
END:VEVENT
END:VCALENDAR
