BEGIN:VCALENDAR
VERSION:2.0
PRODID:
BEGIN:VEVENT
UID:144604imp
DTSTAMP:20260419T193223Z
DTSTART:20260520T130000Z
DTEND:20260520T203000Z
SUMMARY: Passive Activities & Rental Real Estate Income Tax Issues 26-27
DESCRIPTION: This comprehensive training is designed to get the accountant up to speed quickly with the complex passive activity loss (PAL) rules that apply to certain investments in trades or businesses and rental activities. The cornerstone of the course is the in-depth coverage of the detailed tax law and regulations applicable to passive activities under IRC &sect\;469 and how and when the 3.8% net investment income tax under &sect\;1411 applies. Each attendee will receive the most comprehensive passive activity reference manual with numerous practice aids and real-world examples\n 
CLASS:PUBLIC
END:VEVENT
END:VCALENDAR
