BEGIN:VCALENDAR
VERSION:2.0
PRODID:
BEGIN:VEVENT
UID:144610imp
DTSTAMP:20260421T044729Z
DTSTART:20260825T130000Z
DTEND:20260825T203000Z
SUMMARY: Partnership & LLC (Form 1065)--Formation to Liquidation 26-27
DESCRIPTION: With tax laws growing more complex and evolving by the minute\, CPAs need more than just a surface-level understanding of partnership and LLC taxation. This course takes a lifecycle approach'from formation through growth and operations to eventual liquidation'focusing specifically on closely held entities. Through case-driven instruction\, you'll tackle real-world tax issues at both the partnership and partner level. We'll break down key concepts with practical examples and scenarios you're likely to encounter in the field. Attendees will leave with a comprehensive reference manual packed with practice aids\, actionable guidance and fully developed case studies you can put to work immediately\n 
CLASS:PUBLIC
END:VEVENT
END:VCALENDAR
