BEGIN:VCALENDAR
VERSION:2.0
PRODID:
BEGIN:VEVENT
UID:144619imp
DTSTAMP:20260420T235023Z
DTSTART:20260923T150000Z
DTEND:20260923T223000Z
SUMMARY: S Corporation (Form 1120S) -- Formation to Liquidation 26-27
DESCRIPTION: With the increasing complexity and ever-changing nature of tax laws and issues\, today's accountant needs a S corporation course focusing on the birth\, growth\, maturity and death of a closely held S corporation. This case driven course will deal with S corporation income tax laws from formation to liquidation. This class will review S corporation tax law by looking at case studies addressing issues and problems at both the S corporation and shareholder level. Each attendee will receive the most comprehensive reference manual with numerous practice aids and real-world examples and case studies\n 
CLASS:PUBLIC
END:VEVENT
END:VCALENDAR
