BEGIN:VCALENDAR
VERSION:2.0
PRODID:
BEGIN:VEVENT
UID:144622imp
DTSTAMP:20260420T033347Z
DTSTART:20260602T150000Z
DTEND:20260604T223000Z
SUMMARY: Staff Tax Training: Individuals (Form 1040) 26-27
DESCRIPTION: This three-day training course is taught using a hands-on methodology and provides a comprehensive understanding of the federal income tax laws applicable to individuals. The session includes a comprehensive case study (using actual W-2s\, 1099s\, 1098s\, K-1s\, etc.). Participants will walk through the preparation of Form 1040 and related tax schedules\, learning complex income tax law. Each attendee will receive a comprehensive individual income tax reference manual that includes practice aids\, real-world examples\, new Federal income tax forms and schedules and Pat Garverick's Quick Reference Chart\n 
CLASS:PUBLIC
END:VEVENT
END:VCALENDAR
