BEGIN:VCALENDAR
VERSION:2.0
PRODID:
BEGIN:VEVENT
UID:144626imp
DTSTAMP:20260420T094808Z
DTSTART:20260615T150000Z
DTEND:20260616T223000Z
SUMMARY: Staff Tax Training: Partnerships & LLCs -- Form 1065 26-27
DESCRIPTION: This two-day training course provides a comprehensive understanding of the Federal income tax laws applicable to partnerships\, limited liability companies (LLCs) and limited liability partnerships (LLPs) and their owners. The cornerstone of this course is the integration of the most recent tax laws and theories into real-world case scenarios that teach the preparation and review of IRS tax forms and schedules. Attendees will receive a comprehensive partnership/LLC income tax reference manual that includes practice aids\, real-world examples\, new Federal income tax forms and schedules and Pat Garverick's Quick Reference Chart\n 
CLASS:PUBLIC
END:VEVENT
END:VCALENDAR
