BEGIN:VCALENDAR
VERSION:2.0
PRODID:
BEGIN:VEVENT
UID:144629imp
DTSTAMP:20260420T171900Z
DTSTART:20261110T170000Z
DTEND:20261110T183000Z
SUMMARY: FASB Update: What's New in Q2 - November 2026
DESCRIPTION: Stay current on FASB's activities\, with this  LIVE  quarterly update. This course delivers an overview of Accounting Standards Updates (ASU) released over the past three months (up to the course delivery date) and addresses proposed ASUs issued and the deadline for comments. The course also covers changes to the FASB Workplan. Be sure to register for each quarterly update: FASB Update: What's New in Q1 - August 2026 FASB Update: What's New in Q2 - October 2026 FASB Update: What's New in Q3 - January 2027 FASB Update: What's New in Q4 - April 2027\n  
CLASS:PUBLIC
END:VEVENT
END:VCALENDAR
